BEGIN:VCALENDAR
VERSION:2.0
PRODID:spatie/icalendar-generator
BEGIN:VTIMEZONE
TZID:Europe/Jersey
BEGIN:STANDARD
DTSTART:20251026T020000
TZOFFSETFROM:+0100
TZOFFSETTO:+0000
END:STANDARD
BEGIN:DAYLIGHT
DTSTART:20260329T000000
TZOFFSETFROM:+0000
TZOFFSETTO:+0100
END:DAYLIGHT
BEGIN:STANDARD
DTSTART:20261025T020000
TZOFFSETFROM:+0100
TZOFFSETTO:+0000
END:STANDARD
END:VTIMEZONE
BEGIN:VTIMEZONE
TZID:UTC
BEGIN:STANDARD
DTSTART:20250727T113858
TZOFFSETFROM:+0000
TZOFFSETTO:+0000
END:STANDARD
END:VTIMEZONE
BEGIN:VEVENT
UID:0f4c019a-bfd4-4aaf-b10d-05e251bb9433
DTSTAMP:20260423T113858Z
DTSTART;TZID=Europe/Jersey:20260430T082500
DTEND;TZID=Europe/Jersey:20260430T152500
SUMMARY:Y11 Group 2 GCSE Textiles Practical Exam Day 2
DESCRIPTION:(not IT/Sp)
END:VEVENT
END:VCALENDAR