BEGIN:VCALENDAR
VERSION:2.0
PRODID:spatie/icalendar-generator
BEGIN:VTIMEZONE
TZID:Europe/Jersey
BEGIN:STANDARD
DTSTART:20251026T020000
TZOFFSETFROM:+0100
TZOFFSETTO:+0000
END:STANDARD
BEGIN:DAYLIGHT
DTSTART:20260329T000000
TZOFFSETFROM:+0000
TZOFFSETTO:+0100
END:DAYLIGHT
BEGIN:STANDARD
DTSTART:20261025T020000
TZOFFSETFROM:+0100
TZOFFSETTO:+0000
END:STANDARD
END:VTIMEZONE
BEGIN:VTIMEZONE
TZID:UTC
BEGIN:STANDARD
DTSTART:20250727T113856
TZOFFSETFROM:+0000
TZOFFSETTO:+0000
END:STANDARD
END:VTIMEZONE
BEGIN:VEVENT
UID:340a6703-0fdf-44b2-bc47-4b1085b5d994
DTSTAMP:20260423T113856Z
DTSTART;TZID=Europe/Jersey;VALUE=DATE:20260424
DTEND;TZID=Europe/Jersey;VALUE=DATE:20260424
SUMMARY:Y11 GCSE French Speaking Tests
X-MICROSOFT-CDO-ALLDAYEVENT:TRUE
LOCATION:C21-C23\, MFL Sem
END:VEVENT
END:VCALENDAR