BEGIN:VCALENDAR
VERSION:2.0
PRODID:spatie/icalendar-generator
BEGIN:VTIMEZONE
TZID:Europe/Jersey
BEGIN:STANDARD
DTSTART:20251026T020000
TZOFFSETFROM:+0100
TZOFFSETTO:+0000
END:STANDARD
BEGIN:DAYLIGHT
DTSTART:20260329T000000
TZOFFSETFROM:+0000
TZOFFSETTO:+0100
END:DAYLIGHT
BEGIN:STANDARD
DTSTART:20261025T020000
TZOFFSETFROM:+0100
TZOFFSETTO:+0000
END:STANDARD
END:VTIMEZONE
BEGIN:VTIMEZONE
TZID:UTC
BEGIN:STANDARD
DTSTART:20250727T113858
TZOFFSETFROM:+0000
TZOFFSETTO:+0000
END:STANDARD
END:VTIMEZONE
BEGIN:VEVENT
UID:40dfecbb-67a5-48f6-a9b2-9fa4273072f4
DTSTAMP:20260423T113858Z
DTSTART;TZID=Europe/Jersey:20260429T140000
DTEND;TZID=Europe/Jersey:20260429T142000
SUMMARY:Lower School Assembly
LOCATION:Hall (Lecture & Middle)
END:VEVENT
END:VCALENDAR