BEGIN:VCALENDAR
VERSION:2.0
PRODID:spatie/icalendar-generator
BEGIN:VTIMEZONE
TZID:Europe/Jersey
BEGIN:STANDARD
DTSTART:20251026T020000
TZOFFSETFROM:+0100
TZOFFSETTO:+0000
END:STANDARD
BEGIN:DAYLIGHT
DTSTART:20260329T000000
TZOFFSETFROM:+0000
TZOFFSETTO:+0100
END:DAYLIGHT
BEGIN:STANDARD
DTSTART:20261025T020000
TZOFFSETFROM:+0100
TZOFFSETTO:+0000
END:STANDARD
END:VTIMEZONE
BEGIN:VTIMEZONE
TZID:UTC
BEGIN:STANDARD
DTSTART:20250727T113825
TZOFFSETFROM:+0000
TZOFFSETTO:+0000
END:STANDARD
END:VTIMEZONE
BEGIN:VEVENT
UID:4e5baa04-64c1-4b4b-ae90-531bd51be027
DTSTAMP:20260423T113825Z
DTSTART;TZID=Europe/Jersey:20260430T180000
DTEND;TZID=Europe/Jersey:20260430T193000
SUMMARY:Summer Concert
DESCRIPTION:The annual Summer Concert will take place on Thursday\, 30th Ap
 ril at Jersey College for Girls in the hall.\nThe evening will begin with 
 refreshments served in the &quot\;Piano Lounge&quot\; (the Dome) from 5:30
 pm\, with the concert commencing promptly at 6pm and concluding by 7:30pm.
 \n
LOCATION:Hall (All)
END:VEVENT
END:VCALENDAR