BEGIN:VCALENDAR
VERSION:2.0
PRODID:spatie/icalendar-generator
BEGIN:VTIMEZONE
TZID:Europe/Jersey
BEGIN:STANDARD
DTSTART:20251026T020000
TZOFFSETFROM:+0100
TZOFFSETTO:+0000
END:STANDARD
BEGIN:DAYLIGHT
DTSTART:20260329T000000
TZOFFSETFROM:+0000
TZOFFSETTO:+0100
END:DAYLIGHT
BEGIN:STANDARD
DTSTART:20261025T020000
TZOFFSETFROM:+0100
TZOFFSETTO:+0000
END:STANDARD
END:VTIMEZONE
BEGIN:VTIMEZONE
TZID:UTC
BEGIN:STANDARD
DTSTART:20250727T113859
TZOFFSETFROM:+0000
TZOFFSETTO:+0000
END:STANDARD
END:VTIMEZONE
BEGIN:VEVENT
UID:5366a91a-893e-403b-92e0-b62ea1b3c96b
DTSTAMP:20260423T113859Z
DTSTART;TZID=Europe/Jersey:20260423T140000
DTEND;TZID=Europe/Jersey:20260423T142000
SUMMARY:College Assembly - Intro new SSLT part 1
LOCATION:Hall (All)
END:VEVENT
END:VCALENDAR