BEGIN:VCALENDAR
VERSION:2.0
PRODID:spatie/icalendar-generator
BEGIN:VTIMEZONE
TZID:Europe/Jersey
BEGIN:STANDARD
DTSTART:20251026T020000
TZOFFSETFROM:+0100
TZOFFSETTO:+0000
END:STANDARD
BEGIN:DAYLIGHT
DTSTART:20260329T000000
TZOFFSETFROM:+0000
TZOFFSETTO:+0100
END:DAYLIGHT
BEGIN:STANDARD
DTSTART:20261025T020000
TZOFFSETFROM:+0100
TZOFFSETTO:+0000
END:STANDARD
END:VTIMEZONE
BEGIN:VTIMEZONE
TZID:UTC
BEGIN:STANDARD
DTSTART:20250727T113827
TZOFFSETFROM:+0000
TZOFFSETTO:+0000
END:STANDARD
END:VTIMEZONE
BEGIN:VEVENT
UID:7490c473-cb40-4179-b3cf-03e7bcee169e
DTSTAMP:20260423T113827Z
DTSTART;TZID=Europe/Jersey:20260427T083500
DTEND;TZID=Europe/Jersey:20260427T120000
SUMMARY:Year 10 - One Law Workshop
DESCRIPTION:One Law (Y10) &#8211\; This workshop enables students to choose
  an area of policy where a law is needed or where a law needs to be change
 d. Learning about pressure group politics\, students will then campaign fo
 r their chosen piece of legislation and see if they can convince others to
  agree. This workshop provides students with an overview of the legislativ
 e process in the UK and how laws are made.
LOCATION:Hall (Lecture & Middle)
END:VEVENT
END:VCALENDAR