BEGIN:VCALENDAR
VERSION:2.0
PRODID:spatie/icalendar-generator
BEGIN:VTIMEZONE
TZID:Europe/Jersey
BEGIN:STANDARD
DTSTART:20251026T020000
TZOFFSETFROM:+0100
TZOFFSETTO:+0000
END:STANDARD
BEGIN:DAYLIGHT
DTSTART:20260329T000000
TZOFFSETFROM:+0000
TZOFFSETTO:+0100
END:DAYLIGHT
BEGIN:STANDARD
DTSTART:20261025T020000
TZOFFSETFROM:+0100
TZOFFSETTO:+0000
END:STANDARD
END:VTIMEZONE
BEGIN:VTIMEZONE
TZID:UTC
BEGIN:STANDARD
DTSTART:20250727T114005
TZOFFSETFROM:+0000
TZOFFSETTO:+0000
END:STANDARD
END:VTIMEZONE
BEGIN:VEVENT
UID:82f58633-638c-4bc5-91ba-4879b83e17be
DTSTAMP:20260423T114005Z
DTSTART;TZID=Europe/Jersey:20260427T140000
DTEND;TZID=Europe/Jersey:20260427T142000
SUMMARY:Sixth Form Assembly
LOCATION:SFC
END:VEVENT
END:VCALENDAR