BEGIN:VCALENDAR
VERSION:2.0
PRODID:spatie/icalendar-generator
BEGIN:VTIMEZONE
TZID:Europe/Jersey
BEGIN:STANDARD
DTSTART:20251026T020000
TZOFFSETFROM:+0100
TZOFFSETTO:+0000
END:STANDARD
BEGIN:DAYLIGHT
DTSTART:20260329T000000
TZOFFSETFROM:+0000
TZOFFSETTO:+0100
END:DAYLIGHT
BEGIN:STANDARD
DTSTART:20261025T020000
TZOFFSETFROM:+0100
TZOFFSETTO:+0000
END:STANDARD
END:VTIMEZONE
BEGIN:VTIMEZONE
TZID:UTC
BEGIN:STANDARD
DTSTART:20250727T113907
TZOFFSETFROM:+0000
TZOFFSETTO:+0000
END:STANDARD
END:VTIMEZONE
BEGIN:VEVENT
UID:f4733541-a5e2-42a6-94f1-36b29d5251a8
DTSTAMP:20260423T113907Z
DTSTART;TZID=Europe/Jersey;VALUE=DATE:20260430
DTEND;TZID=Europe/Jersey;VALUE=DATE:20260430
SUMMARY:Y11 GCSE Italian/Spanish Speaking Tests
X-MICROSOFT-CDO-ALLDAYEVENT:TRUE
LOCATION:C22-C25
END:VEVENT
END:VCALENDAR