BEGIN:VCALENDAR
VERSION:2.0
PRODID:spatie/icalendar-generator
BEGIN:VTIMEZONE
TZID:Europe/Jersey
BEGIN:STANDARD
DTSTART:20251026T020000
TZOFFSETFROM:+0100
TZOFFSETTO:+0000
END:STANDARD
BEGIN:DAYLIGHT
DTSTART:20260329T000000
TZOFFSETFROM:+0000
TZOFFSETTO:+0100
END:DAYLIGHT
BEGIN:STANDARD
DTSTART:20261025T020000
TZOFFSETFROM:+0100
TZOFFSETTO:+0000
END:STANDARD
END:VTIMEZONE
BEGIN:VTIMEZONE
TZID:UTC
BEGIN:STANDARD
DTSTART:20250727T113826
TZOFFSETFROM:+0000
TZOFFSETTO:+0000
END:STANDARD
END:VTIMEZONE
BEGIN:VEVENT
UID:ffac7c84-464f-4e8b-991f-c15055b70eaf
DTSTAMP:20260423T113826Z
DTSTART;TZID=Europe/Jersey;VALUE=DATE:20260423
DTEND;TZID=Europe/Jersey;VALUE=DATE:20260423
SUMMARY:Y11 GCSE French Speaking Tests
X-MICROSOFT-CDO-ALLDAYEVENT:TRUE
LOCATION:C12 - C25\, MFL Sem
END:VEVENT
END:VCALENDAR